

BEGIN:VCALENDAR
VERSION:2.0
PRODID:-//RECOUP - ECPv6.15.16//NONSGML v1.0//EN
CALSCALE:GREGORIAN
METHOD:PUBLISH
X-WR-CALNAME:RECOUP
X-ORIGINAL-URL:https://www.recoup.org
X-WR-CALDESC:Events for RECOUP
REFRESH-INTERVAL;VALUE=DURATION:PT1H
X-Robots-Tag:noindex
X-PUBLISHED-TTL:PT1H
BEGIN:VTIMEZONE
TZID:Europe/London
BEGIN:DAYLIGHT
TZOFFSETFROM:+0000
TZOFFSETTO:+0100
TZNAME:BST
DTSTART:20250330T010000
END:DAYLIGHT
BEGIN:STANDARD
TZOFFSETFROM:+0100
TZOFFSETTO:+0000
TZNAME:GMT
DTSTART:20251026T010000
END:STANDARD
BEGIN:DAYLIGHT
TZOFFSETFROM:+0000
TZOFFSETTO:+0100
TZNAME:BST
DTSTART:20260329T010000
END:DAYLIGHT
BEGIN:STANDARD
TZOFFSETFROM:+0100
TZOFFSETTO:+0000
TZNAME:GMT
DTSTART:20261025T010000
END:STANDARD
BEGIN:DAYLIGHT
TZOFFSETFROM:+0000
TZOFFSETTO:+0100
TZNAME:BST
DTSTART:20270328T010000
END:DAYLIGHT
BEGIN:STANDARD
TZOFFSETFROM:+0100
TZOFFSETTO:+0000
TZNAME:GMT
DTSTART:20271031T010000
END:STANDARD
END:VTIMEZONE
BEGIN:VEVENT
DTSTART;VALUE=DATE:20260602
DTEND;VALUE=DATE:20260605
DTSTAMP:20260422T205821
CREATED:20260316T125528Z
LAST-MODIFIED:20260316T125528Z
UID:14474-1780358400-1780617599@www.recoup.org
SUMMARY:Interplas 2026
DESCRIPTION:The UK’s leading plastics exhibition returns 2–4 June 2026\, bringing together the full plastics supply chain under one roof.\n\nWith 500+ suppliers showcasing the latest machinery\, materials and manufacturing technologies\, the event offers valuable insight for professionals working across plastics design\, production and recycling.\n\nAlongside the exhibition\, the Interplas Insights conference programme will feature expert speakers exploring key industry topics\, including sustainability\, innovation and the future of plastics.
URL:https://www.recoup.org/event/interplas-2026/
LOCATION:NEC Birmingham
ATTACH;FMTTYPE=image/png:https://www.recoup.org/wp-content/uploads/2026/03/InterplasDates.png
END:VEVENT
BEGIN:VEVENT
DTSTART;TZID=Europe/London:20260610T080000
DTEND;TZID=Europe/London:20260610T170000
DTSTAMP:20260422T205821
CREATED:20260407T132554Z
LAST-MODIFIED:20260407T132554Z
UID:14657-1781078400-1781110800@www.recoup.org
SUMMARY:REACH and the Plastics Industry
DESCRIPTION:Join the BPF at this seminar to discover the latest news and developments in REACH legislation\, EU REACH revision and what it means for the plastics industry.\nIn this online half-day event expert speakers will provide an in-depth exploration into key topics such as government updates\, developments on PFAS\, and the latest overview on REACH including SVHC.\nThe seminar will also include a panel discussion exploring how to implement REACH changes and what they will actually mean for the plastic industry. You will have the opportunity to gain practical insights and engage directly with our panelists through a Q&A. \n  \nView more information and book your ticket \n  \nAre you a RECOUP member? RECOUP members can get a discount on the non-member rate for the event – contact us at enquiry@recoup.org for the discount code.
URL:https://www.recoup.org/event/reach-and-the-plastics-industry-2/
LOCATION:Online
ATTACH;FMTTYPE=image/jpeg:https://www.recoup.org/wp-content/uploads/2026/04/https___cdn.evbuc_.com_images_1180054991_2989603940295_1_original.jpg
END:VEVENT
END:VCALENDAR