

BEGIN:VCALENDAR
VERSION:2.0
PRODID:-//RECOUP - ECPv6.15.16//NONSGML v1.0//EN
CALSCALE:GREGORIAN
METHOD:PUBLISH
X-ORIGINAL-URL:https://www.recoup.org
X-WR-CALDESC:Events for RECOUP
REFRESH-INTERVAL;VALUE=DURATION:PT1H
X-Robots-Tag:noindex
X-PUBLISHED-TTL:PT1H
BEGIN:VTIMEZONE
TZID:Europe/London
BEGIN:DAYLIGHT
TZOFFSETFROM:+0000
TZOFFSETTO:+0100
TZNAME:BST
DTSTART:20240331T010000
END:DAYLIGHT
BEGIN:STANDARD
TZOFFSETFROM:+0100
TZOFFSETTO:+0000
TZNAME:GMT
DTSTART:20241027T010000
END:STANDARD
BEGIN:DAYLIGHT
TZOFFSETFROM:+0000
TZOFFSETTO:+0100
TZNAME:BST
DTSTART:20250330T010000
END:DAYLIGHT
BEGIN:STANDARD
TZOFFSETFROM:+0100
TZOFFSETTO:+0000
TZNAME:GMT
DTSTART:20251026T010000
END:STANDARD
BEGIN:DAYLIGHT
TZOFFSETFROM:+0000
TZOFFSETTO:+0100
TZNAME:BST
DTSTART:20260329T010000
END:DAYLIGHT
BEGIN:STANDARD
TZOFFSETFROM:+0100
TZOFFSETTO:+0000
TZNAME:GMT
DTSTART:20261025T010000
END:STANDARD
END:VTIMEZONE
BEGIN:VTIMEZONE
TZID:UTC
BEGIN:STANDARD
TZOFFSETFROM:+0000
TZOFFSETTO:+0000
TZNAME:UTC
DTSTART:20240101T000000
END:STANDARD
END:VTIMEZONE
BEGIN:VEVENT
DTSTART;TZID=Europe/London:20250909T100000
DTEND;TZID=Europe/London:20250909T130000
DTSTAMP:20260422T034357
CREATED:20250722T084814Z
LAST-MODIFIED:20250722T140450Z
UID:11864-1757412000-1757422800@www.recoup.org
SUMMARY:Members Visit to Blue Planet Washing Solutions
DESCRIPTION:Blue Planet Washing Solutions proudly invites RECOUP members to see Blue Planet Washing Solutions
URL:https://www.recoup.org/event/members-visit-to-blue-planet-washing-solutions/
LOCATION:15 Gatwick International Distribution Centre\, 15 Gatwick International Distribution Centre\, West Sussex\, RH10 9RX
ATTACH;FMTTYPE=image/png:https://www.recoup.org/wp-content/uploads/2025/07/Members-Event-Mailchimp-1.png
END:VEVENT
BEGIN:VEVENT
DTSTART;TZID=Europe/London:20250910T120000
DTEND;TZID=Europe/London:20250910T130000
DTSTAMP:20260422T034357
CREATED:20250708T103838Z
LAST-MODIFIED:20250708T103926Z
UID:11748-1757505600-1757509200@www.recoup.org
SUMMARY:Preston City Council Recycling Campaign – Insights\, Results and Learnings
DESCRIPTION:In 2024\, Preston City Council\, RECOUP\, and Beyondly collaborated on a recycling campaign aimed at increasing recycling rates and reducing contamination among residents in Preston. \nJoin us for this insightful webinar as we share: \nThe aims and design of the campaign\nKey results\nResident engagement insights\nLessons learned and next steps
URL:https://www.recoup.org/event/preston-city-council-recycling-campaign-insights-results-and-learnings/
LOCATION:Online
ATTACH;FMTTYPE=image/jpeg:https://www.recoup.org/wp-content/uploads/2025/07/8da4d835-5b82-404a-bca9-14e23dbfb9bb.jpg
END:VEVENT
BEGIN:VEVENT
DTSTART;TZID=Europe/London:20250917T093000
DTEND;TZID=Europe/London:20250918T183000
DTSTAMP:20260422T034357
CREATED:20250625T090152Z
LAST-MODIFIED:20250625T090152Z
UID:11645-1758101400-1758220200@www.recoup.org
SUMMARY:Resource & Waste Management Expo (RWM Expo)
DESCRIPTION:The Resource & Waste Management Expo (RWM) returns in 2025 as the premier event for professionals across the recycling\, resource\, and waste management sectors. Whether you’re a waste leader\, sustainability expert\, or an industry newcomer\, RWM offers the perfect platform to connect with global innovators\, discover the latest trends\, and source groundbreaking solutions for sustainable resource management. \nWith over 9\,000 attendees in 2024\, RWM 2025 is set to be bigger and better than ever\, featuring cutting-edge solutions\, live demonstrations\, expert-led sessions\, lucrative investment opportunities\, and crucial insights to elevate your operation. \nWhy Attend RWM 2025? \n\nDiscover your next solution: Explore cutting-edge innovations\, initiatives\, technology and solutions in recycling\, energy-from-waste\, circular economy strategies\, and more across three exhibition halls and a 10\,000m² outdoor area.\nLive Demonstrations: Witness incredible displays of the latest waste processing machinery and collection vehicles in-action\, and see their benefits first-hand.\nExpert-Led Conferences: Gain valuable insights from keynote sessions\, seminars\, and workshops designed to address industry challenges and provide actionable insights.\nUnparalleled Networking: Connect with peers\, suppliers\, consultants\, and decision-makers driving sustainable resource forward across diverse sectors. Create powerful new partnerships to take your business to new heights.\nComprehensive Solutions: Access a one-stop platform for resource management\, offering everything from advanced technologies to actionable strategies.\n\nRWM is part of the Environmental Services & Solutions Expo (ESS)\, the UK’s largest event dedicated to environmental services and technology. The Expo unites eight co-located shows\, and one free ticket provides attendees with a unique\, comprehensive platform to explore the latest advancements in resource\, waste\, land\, water\, energy\, air quality\, and everything in between: \n\nRWM – Resource & Waste Management Expo\nCLR – Contamination & Land Remediation Expo\nEFD – Energy\, Fuels & Decarbonisation Expo\nWWEM – Water\, Wastewater & Environmental Management Expo\nAQE – Air Quality & Emissions Expo\nGEO – Geotechnical Engineering and Operations Expo (New for 2025)\nCARS & MRE – Complete Auto Recycling Show & Metals Recycling Event (Co-located with ESS for the first time)\n\nSecure your free ticket to attend: https://hubs.la/Q03t6DqX0 \n 
URL:https://www.recoup.org/event/resource-waste-management-expo-rwm-expo/
LOCATION:NEC Birmingham
ATTACH;FMTTYPE=image/png:https://www.recoup.org/wp-content/uploads/2025/06/ESS-Expo-calendar-listing-1.png
END:VEVENT
BEGIN:VEVENT
DTSTART;TZID=UTC:20250925T080000
DTEND;TZID=UTC:20250925T160000
DTSTAMP:20260422T034357
CREATED:20250120T141729Z
LAST-MODIFIED:20250910T120126Z
UID:9607-1758787200-1758816000@www.recoup.org
SUMMARY:The RECOUP Conference
DESCRIPTION:AGENDA   \n08:00-09:00 – Registration and Networking Breakfast  \n09:00-09:15 – Welcome – RECOUP Opening  \n  \n09:15-10:40 – SESSION ONE: Can Plastic Circularity In The UK Ever Really Be Achieved?     \nOver the past decade\, the UK has struggled to turn plastic circularity ambitions into action. Amid ongoing market challenges and policy shifts\, this session brings together industry leaders to explore what real progress looks like and how to achieve it. Discussions will cover investment\, innovation\, policy\, infrastructure\, and practical solutions to strengthen the UK’s circular plastics future. \n  \nCHAIR   \nAdam Read – Chief External Affairs and Sustainability Officer – SUEZ \nSpeaker \nDana Clouston – Head of Growth and Specialist Propositions – Barclays \nJames McLeary – Managing Director – Biffa Polymers \nMary-Jane Hogg – Global Director of Feedstocks of the Future Strategy – DOW \nJames Bull – Head of packaging and Food waste strategies – Tesco \nPauline Metivier – Head of Business and Sector Support – ReLondon \nJames Marsh – Senior Packaging Sustainability Specialist – Nestlé Uk Ltd \n  \n10:40-11:10 – Comfort Break  \n  \n11:10-12:40 – SESSION TWO: Achieving Plastic Circularity Systems – A Global Perspective  \nWhat are the big solutions and key learnings outside of the UK when it comes to Plastic Circularity?  This session takes a closer look at the systems\, policies\, solutions and challenges beyond the UK.  Through open dialogue\, the session aims to uncover how international learning and collaboration can help move plastics circularity and governance forward. \n  \nCHAIR   \nJoachim Quoden – EXPRA \nSpeaker  \nKlaus Wohnig – Co-Founder – DROP-IN \nTom Gaynor – Chief Operations Office – REPAK \nCarlos Ludlow-Palafox – CTO – Greenback Recycling Technologies \nProfessor Steve Fletcher – Director – University of Portsmouth \nLucie Charbonnel – Sustainability Director Amcor Flexibles EMEA – Amcor \nChris Dow – Global Business Development Director – Coperion Recycling \nMegg Humphrey – Technical Partnership Manager – WRAP \n  \n12:40-13:00 – Signposting Session  \n15 mins of signposting  \n13:00-14:15 – Lunch  \n14:15-14:25 – RECOUP Update  \n  \n14:25-15:55 – SESSION THREE: Plastic Fact vs Plastic Fiction – The Plastic Paradox \nSince Sir David Attenborough brought the issue of plastic pollution to the mainstream with the Blue Planet documentary 8 years ago\, there has been a non-stop flow of evidence\, opinions and research regarding the positioning and use of plastics\, and impact on the environment. This session explores the current thinking and direction\, the UK role in research and engagement\, greenwashing (and hushing)\, material innovation and preferences\, and how companies and organisations are striving to make a difference. \n  \nCHAIR  \nPaula Chin – Senior Policy Advisor – WWF \nSpeaker \nGrahame Woods – Head of Policy – Viridor \nDenise Mathieson – Head of Packaging Design & Programme Delivery – Waitrose \nRosie Bartram – Senior Manager Public Affairs – Coca-Cola Europacific Partners \nClover Walton – Manager Group Sustainability & External Affairs – Faerch UK Ltd \nDan Cooke – Director of Policy\, Communications and External Affairs – CIWM \nRobyn Macpherson – Project Manager\, Birmingham University \n  \n15:55-16:00 – Closing Thoughts  \n16:00 – FINISH 
URL:https://www.recoup.org/event/the-recoup-conference-2/
LOCATION:KingsGate Conference Centre\, 2 Staplee Way\, Peterborough\, PE1 4YT
ATTACH;FMTTYPE=image/png:https://www.recoup.org/wp-content/uploads/2024/02/The-RECOUP-Conference-1.png
END:VEVENT
END:VCALENDAR