

BEGIN:VCALENDAR
VERSION:2.0
PRODID:-//RECOUP - ECPv6.15.16//NONSGML v1.0//EN
CALSCALE:GREGORIAN
METHOD:PUBLISH
X-WR-CALNAME:RECOUP
X-ORIGINAL-URL:https://www.recoup.org
X-WR-CALDESC:Events for RECOUP
REFRESH-INTERVAL;VALUE=DURATION:PT1H
X-Robots-Tag:noindex
X-PUBLISHED-TTL:PT1H
BEGIN:VTIMEZONE
TZID:UTC
BEGIN:STANDARD
TZOFFSETFROM:+0000
TZOFFSETTO:+0000
TZNAME:UTC
DTSTART:20240101T000000
END:STANDARD
END:VTIMEZONE
BEGIN:VEVENT
DTSTART;TZID=UTC:20250513T130000
DTEND;TZID=UTC:20250513T163000
DTSTAMP:20260421T203958
CREATED:20250403T114758Z
LAST-MODIFIED:20250403T120823Z
UID:10686-1747141200-1747153800@www.recoup.org
SUMMARY:The Challenges of Incorporating Recycled Content in Plastics Packaging 2025
DESCRIPTION:This half-day online seminar\, kindly sponsored by BPF Energy\, will provide a detailed insight into the latest developments in incorporating recycled content into plastics packaging. \nFeaturing presentations from expert speakers on topics including changes in legislation\, supply trends\, verification and industry case studies  this online event will provide an overview of the various technological innovations to certify\, verify and quantify recycled content and will be of interest to all stakeholders in the supply chain including processors\, brands\, retailers\, raw material suppliers and recyclers. \nAll attendees will also receive full recordings of our last three events\, listen to over 18 additional archived sessions. \n  \nRECOUP Members can get a discount code for this event by contacting us at enquiry@recoup.org
URL:https://www.recoup.org/event/the-challenges-of-incorporating-recycled-content-in-plastics-packaging-2025/
LOCATION:Online
ATTACH;FMTTYPE=image/png:https://www.recoup.org/wp-content/uploads/2025/04/2025-banner_incorp-recycled-content-seminar.png
END:VEVENT
BEGIN:VEVENT
DTSTART;TZID=UTC:20250514T100000
DTEND;TZID=UTC:20250514T143000
DTSTAMP:20260421T203958
CREATED:20250219T095817Z
LAST-MODIFIED:20250219T095826Z
UID:10047-1747216800-1747233000@www.recoup.org
SUMMARY:RECOUP Members site visit to Berry Circular Polymers Leamington Spa site
DESCRIPTION:Berry Circular Polymers proudly invites RECOUP members to visit a leading recycling site based in Leamington Spa\, UK. The site uses proprietary CleanStream® technology\, one of the first closed-loop systems to mechanically process domestically recovered household waste polypropylene (PP) back into packaging for contact sensitive applications
URL:https://www.recoup.org/event/recoup-members-site-visit-to-berry-circular-polymers-leamington-spa-site-2/
ATTACH;FMTTYPE=image/png:https://www.recoup.org/wp-content/uploads/2025/02/Members-Event-Mailchimp-5.png
END:VEVENT
BEGIN:VEVENT
DTSTART;TZID=UTC:20250520T130000
DTEND;TZID=UTC:20250520T160000
DTSTAMP:20260421T203958
CREATED:20250403T120337Z
LAST-MODIFIED:20250403T120347Z
UID:10692-1747746000-1747756800@www.recoup.org
SUMMARY:REACH and the Plastics Industry
DESCRIPTION:Join the BPF at this seminar to discover the latest news and developments in REACH legislation\, UK REACH and what it means for the plastics industry. \nIn this online half day event our speakers will provide an in-depth exploration of what changes to REACH mean to our industry. The event will feature industry case studies an overview of EU REACH legislation and a panel discussion. \nThis event will also discuss the UK REACH Alternative Transitional Registration Model (ATRm) and what this will mean for our industry and your company. \n  \nRECOUP Members can get a discount code for this event by contacting us at enquiry@recoup.org
URL:https://www.recoup.org/event/reach-and-the-plastics-industry/
LOCATION:Online
ATTACH;FMTTYPE=image/png:https://www.recoup.org/wp-content/uploads/2025/04/2025-banner_REACH-seminar.png
END:VEVENT
BEGIN:VEVENT
DTSTART;TZID=UTC:20250529T103000
DTEND;TZID=UTC:20250529T123000
DTSTAMP:20260421T203958
CREATED:20250409T104631Z
LAST-MODIFIED:20250409T111029Z
UID:10745-1748514600-1748521800@www.recoup.org
SUMMARY:RECOUP Members site visit to Sherbourne Recycling 29 May
DESCRIPTION:RECOUP are offering members the opportunity to visit Sherbourne Recycling new state of the art materials recycling facility which combine the use of robotics and optics to separate materials. \nSherbourne Recycling \nAutomation\, flexibility and sustainability \nWho are we and how did we get here? \n• Sherbourne Recycling was established in 2021\, but the journey started way back in 2016 \n• Mandated to develop\, operate\, and maintain a new state of the art materials recycling facility in Coventry \n• Partnership of eight local authorities makes up the company structure \nDesign solution \n• Technologically advanced solution\, highly automated and innovative state of the art facility designed and manufactured by Machinex \n• Integrates artificial intelligence at the core of its system that allows real-time interconnectivity between the main sorting equipment \n• Adaptability to evolve with minimal input \n• Designed to process fully commingled DMR \nTaking the next step \n• Film extraction present at almost every step of the material sorting process\, allowing \nSherbourne’s MRF to be the first of its kind to positively extract flexible films in its input streams
URL:https://www.recoup.org/event/recoup-members-site-visit-to-sherbourne-recycling-29-may/
LOCATION:Sherbourne Resource Park\, Sherbourne Resource Park 255 London Road\, Coventry\, CV3 4AR
ATTACH;FMTTYPE=image/png:https://www.recoup.org/wp-content/uploads/2025/04/Members-Event-Mailchimp-6.png
END:VEVENT
END:VCALENDAR