

BEGIN:VCALENDAR
VERSION:2.0
PRODID:-//RECOUP - ECPv6.15.16//NONSGML v1.0//EN
CALSCALE:GREGORIAN
METHOD:PUBLISH
X-ORIGINAL-URL:https://www.recoup.org
X-WR-CALDESC:Events for RECOUP
REFRESH-INTERVAL;VALUE=DURATION:PT1H
X-Robots-Tag:noindex
X-PUBLISHED-TTL:PT1H
BEGIN:VTIMEZONE
TZID:UTC
BEGIN:STANDARD
TZOFFSETFROM:+0000
TZOFFSETTO:+0000
TZNAME:UTC
DTSTART:20230101T000000
END:STANDARD
END:VTIMEZONE
BEGIN:VEVENT
DTSTART;TZID=UTC:20241010T100000
DTEND;TZID=UTC:20241010T160000
DTSTAMP:20260423T115655
CREATED:20240719T103830Z
LAST-MODIFIED:20240719T105729Z
UID:6720-1728554400-1728576000@www.recoup.org
SUMMARY:RECOUP Members Site visit to Blue Planet Washing Solutions 10 October
DESCRIPTION:RECOUP are offering members the opportunity to visit Blue Planet Washing Solutions \nFollowing the success of the returnable cups at our conference we have secured the opportunity for our members to see what happens behind the scenes. Blue Planet Washing Solutions provide high volume washing solutions for returnable items\, with state-of-the-art technology\, they work with leading re-usable cup providers and large-scale events. Their processes have been honed for optimal quality and efficiency\, washing up to 10\,000 items every hour!
URL:https://www.recoup.org/event/recoup-members-site-visit-to-blue-planet-washing-solutions-10-october-2024/
LOCATION:Blue Planet Washing Solutions\, Cobham Way\,\, Crawley\,\, West Sussex\, RH10 9RX
ATTACH;FMTTYPE=image/png:https://www.recoup.org/wp-content/uploads/2024/07/Members-Event-Mailchimp-3.png
END:VEVENT
BEGIN:VEVENT
DTSTART;TZID=UTC:20241015T090000
DTEND;TZID=UTC:20241016T153000
DTSTAMP:20260423T115655
CREATED:20240307T150456Z
LAST-MODIFIED:20240307T150620Z
UID:4502-1728982800-1729092600@www.recoup.org
SUMMARY:Recycling Expo
DESCRIPTION:
URL:https://www.recoup.org/event/recycling-expo/
LOCATION:ExCeL London
END:VEVENT
BEGIN:VEVENT
DTSTART;VALUE=DATE:20241021
DTEND;VALUE=DATE:20241023
DTSTAMP:20260423T115655
CREATED:20240402T073458Z
LAST-MODIFIED:20240402T073504Z
UID:4757-1729468800-1729641599@www.recoup.org
SUMMARY:Global Congress on Recycling and Waste Management
DESCRIPTION:The inaugural Global Congress on Recycling and Waste Management was a remarkable testament to the adaptability and innovation in addressing the challenges posed by the current global situation. We are thrilled to announce that preparations are already underway for the Global Congress on Recycling and Waste Management which is in Rome\, Italy during  October 21-22\, 2024 will continue its tradition of providing an invaluable platform for scientists\, researchers\, and professionals hailing from diverse sectors to converge\, exchange knowledge\, ideas\, and innovative solutions in the realm of environmental sustainability. \nThe objectives of Recycling Congress 2024\, which encompass the exchange of the latest research findings\, the dissemination of cutting-edge research methodologies\, and the facilitation of international and interdisciplinary collaborations\, hold paramount importance in advancing the collective knowledge within these critical fields. The participation of internationally acclaimed speakers and experts from industry partners is poised to enrich the learning experience for attendees. \nRecycling Congress 2024 comprehensive two-day agenda\, comprising plenary sessions\, keynote addresses\, educational workshops\, interactive panel discussions\, and networking opportunities\, has been thoughtfully crafted to provide valuable insights and foster connections among participants. The concerted effort to unite eminent academic scientists\, researchers\, and scholars underscores the conference’s dedication to promoting cooperation and the exchange of knowledge. \nFor those with a keen interest in Waste and Recycling\, Waste Management Fields\, and Environmental Sustainability\, Recycling Congress 2024 presents a golden opportunity to learn from esteemed experts\, share research discoveries\, and engage with like-minded peers. The conference’s commitment to introducing newcomers to the field and showcasing innovative tools and approaches adds an extra layer of allure to this remarkable event. \n  \nMore info @ https://recycling.novelticsconferences.com/
URL:https://www.recoup.org/event/global-congress-on-recycling-and-waste-management/
LOCATION:Rome\, Italy
ATTACH;FMTTYPE=image/png:https://www.recoup.org/wp-content/uploads/2024/04/New-Banner.png
END:VEVENT
END:VCALENDAR