

BEGIN:VCALENDAR
VERSION:2.0
PRODID:-//RECOUP - ECPv6.15.16//NONSGML v1.0//EN
CALSCALE:GREGORIAN
METHOD:PUBLISH
X-ORIGINAL-URL:https://www.recoup.org
X-WR-CALDESC:Events for RECOUP
REFRESH-INTERVAL;VALUE=DURATION:PT1H
X-Robots-Tag:noindex
X-PUBLISHED-TTL:PT1H
BEGIN:VTIMEZONE
TZID:UTC
BEGIN:STANDARD
TZOFFSETFROM:+0000
TZOFFSETTO:+0000
TZNAME:UTC
DTSTART:20230101T000000
END:STANDARD
END:VTIMEZONE
BEGIN:VEVENT
DTSTART;TZID=UTC:20240702T103000
DTEND;TZID=UTC:20240702T123000
DTSTAMP:20260423T174504
CREATED:20240411T093716Z
LAST-MODIFIED:20240530T124635Z
UID:4925-1719916200-1719923400@www.recoup.org
SUMMARY:RECOUP Members site visit to Sherbourne Recycling 2 July
DESCRIPTION:RECOUP are offering members the opportunity to visit Sherbourne Recycling new state of the art materials recycling facility which combine the use of robotics and optics to separate materials. \nSherbourne Recycling \nAutomation\, flexibility and sustainability \nWho are we and how did we get here? \n• Sherbourne Recycling was established in 2021\, but the journey started way back in 2016 \n• Mandated to develop\, operate\, and maintain a new state of the art materials recycling facility in Coventry \n• Partnership of eight local authorities makes up the company structure \nDesign solution \n• Technologically advanced solution\, highly automated and innovative state of the art facility designed and manufactured by Machinex \n• Integrates artificial intelligence at the core of its system that allows real-time interconnectivity between the main sorting equipment \n• Adaptability to evolve with minimal input \n• Designed to process fully commingled DMR \nTaking the next step \n• Film extraction present at almost every step of the material sorting process\, allowing \nSherbourne’s MRF to be the first of its kind to positively extract flexible films in its input streams
URL:https://www.recoup.org/event/recoup-members-site-visit-to-sherbourne-recycling-2-july/
ATTACH;FMTTYPE=image/png:https://www.recoup.org/wp-content/uploads/2024/04/Members-Event-Mailchimp-1.png
END:VEVENT
BEGIN:VEVENT
DTSTART;TZID=UTC:20240724T103000
DTEND;TZID=UTC:20240724T123000
DTSTAMP:20260423T174504
CREATED:20240530T125121Z
LAST-MODIFIED:20240530T125905Z
UID:5521-1721817000-1721824200@www.recoup.org
SUMMARY:RECOUP Members site visit to Sherbourne Recycling 24 July
DESCRIPTION:RECOUP are offering members the opportunity to visit Sherbourne Recycling new state of the art materials recycling facility which combine the use of robotics and optics to separate materials. \nSherbourne Recycling \nAutomation\, flexibility and sustainability \nWho are we and how did we get here? \n• Sherbourne Recycling was established in 2021\, but the journey started way back in 2016 \n• Mandated to develop\, operate\, and maintain a new state of the art materials recycling facility in Coventry \n• Partnership of eight local authorities makes up the company structure \nDesign solution \n• Technologically advanced solution\, highly automated and innovative state of the art facility designed and manufactured by Machinex \n• Integrates artificial intelligence at the core of its system that allows real-time interconnectivity between the main sorting equipment \n• Adaptability to evolve with minimal input \n• Designed to process fully commingled DMR \nTaking the next step \n• Film extraction present at almost every step of the material sorting process\, allowing \nSherbourne’s MRF to be the first of its kind to positively extract flexible films in its input streams
URL:https://www.recoup.org/event/recoup-members-site-visit-to-sherbourne-recycling-24-july/
LOCATION:Sherbourne Resource Park\, Sherbourne Resource Park 255 London Road\, Coventry\, CV3 4AR
ATTACH;FMTTYPE=image/png:https://www.recoup.org/wp-content/uploads/2024/05/Sherbourne-24-July.png
END:VEVENT
BEGIN:VEVENT
DTSTART;TZID=UTC:20240725T100000
DTEND;TZID=UTC:20240725T113000
DTSTAMP:20260423T174504
CREATED:20240624T140637Z
LAST-MODIFIED:20240624T142432Z
UID:6022-1721901600-1721907000@www.recoup.org
SUMMARY:Addressing the needs and challenges for reusable packaging systems through digitalisation: Learnings from project TRACE
DESCRIPTION:Hear from Pragmatic\, University of Sheffield\, AMRC and RECOUP as we share learnings from the Innovate UK Smart Sustainable Plastic Packaging Challenge funded project TRACE (Technology-enabled Reusable Assets for a Circular Economy). \nThe project has been wide-reaching\, considering packaging design; consumer perception and barriers to entry; system digitisation and modelling; and sorting and segregation.
URL:https://www.recoup.org/event/addressing-the-needs-and-challenges-for-reusable-packaging-systems-through-digitalisation-learnings-from-project-trace/
LOCATION:Online
ATTACH;FMTTYPE=image/png:https://www.recoup.org/wp-content/uploads/2024/06/Learnings-from-project-TRACE-Webinar-2.png
END:VEVENT
END:VCALENDAR