

BEGIN:VCALENDAR
VERSION:2.0
PRODID:-//RECOUP - ECPv6.15.16//NONSGML v1.0//EN
CALSCALE:GREGORIAN
METHOD:PUBLISH
X-WR-CALNAME:RECOUP
X-ORIGINAL-URL:https://www.recoup.org
X-WR-CALDESC:Events for RECOUP
REFRESH-INTERVAL;VALUE=DURATION:PT1H
X-Robots-Tag:noindex
X-PUBLISHED-TTL:PT1H
BEGIN:VTIMEZONE
TZID:UTC
BEGIN:STANDARD
TZOFFSETFROM:+0000
TZOFFSETTO:+0000
TZNAME:UTC
DTSTART:20230101T000000
END:STANDARD
END:VTIMEZONE
BEGIN:VEVENT
DTSTART;TZID=UTC:20240417T100000
DTEND;TZID=UTC:20240417T113000
DTSTAMP:20260423T230755
CREATED:20240306T151738Z
LAST-MODIFIED:20240417T121149Z
UID:4421-1713348000-1713353400@www.recoup.org
SUMMARY:Kerbside Collection of PP Plant Pots for Recycling
DESCRIPTION:The RECOUP spring webinars are just around the corner and one of the topics being covered is Horticulture. \nIt’s that time of year where interest turns to the garden\, and an ideal opportunity to hear updates from some of the key organisations in the industry. \nTune in to find out more about plant pot recycling\, the developments so far\, what does the future look like and updates and information on collection rates.
URL:https://www.recoup.org/event/kerbside-collection-of-pp-plant-pots-for-recycling/
LOCATION:Online
ATTACH;FMTTYPE=image/png:https://www.recoup.org/wp-content/uploads/2024/03/Webinar-MailChimp-Template-7.png
END:VEVENT
BEGIN:VEVENT
DTSTART;TZID=UTC:20240425T130000
DTEND;TZID=UTC:20240425T143000
DTSTAMP:20260423T230755
CREATED:20240307T121453Z
LAST-MODIFIED:20240307T121613Z
UID:4463-1714050000-1714055400@www.recoup.org
SUMMARY:Plastics Recycling Industry Making Citizen Messaging Easy
DESCRIPTION:RECOUP will be hosting a webinar on Plastics Recycling Industry Making Citizen Messaging Easy.
URL:https://www.recoup.org/event/plastics-recycling-industry-making-citizen-messaging-easy-2/
LOCATION:Online
ATTACH;FMTTYPE=image/png:https://www.recoup.org/wp-content/uploads/2024/03/Anne-Webinar.png
END:VEVENT
BEGIN:VEVENT
DTSTART;TZID=UTC:20240430T100000
DTEND;TZID=UTC:20240430T113000
DTSTAMP:20260423T230755
CREATED:20240409T092809Z
LAST-MODIFIED:20240409T092809Z
UID:4842-1714471200-1714476600@www.recoup.org
SUMMARY:Meet the RECOUP Awards 2023 Finalists - Products
DESCRIPTION:Are you interested in entering the RECOUP Awards and want to find out more about the process? Do you want to know more about the products that made our 2023 finalists? This is the webinar for you. If you have a product that you feel meets the criteria then sign up to this webinar to hear from last years finalists and winners to learn more.
URL:https://www.recoup.org/event/meet-the-recoup-awards-2023-finalists-products/
LOCATION:Online
ATTACH;FMTTYPE=image/png:https://www.recoup.org/wp-content/uploads/2024/04/2023-Product-Finalist-Rectangle.png
END:VEVENT
END:VCALENDAR