

BEGIN:VCALENDAR
VERSION:2.0
PRODID:-//RECOUP - ECPv6.15.16//NONSGML v1.0//EN
CALSCALE:GREGORIAN
METHOD:PUBLISH
X-ORIGINAL-URL:https://www.recoup.org
X-WR-CALDESC:Events for RECOUP
REFRESH-INTERVAL;VALUE=DURATION:PT1H
X-Robots-Tag:noindex
X-PUBLISHED-TTL:PT1H
BEGIN:VTIMEZONE
TZID:UTC
BEGIN:STANDARD
TZOFFSETFROM:+0000
TZOFFSETTO:+0000
TZNAME:UTC
DTSTART:20230101T000000
END:STANDARD
END:VTIMEZONE
BEGIN:VEVENT
DTSTART;TZID=UTC:20240313T100000
DTEND;TZID=UTC:20240313T140000
DTSTAMP:20260424T021021
CREATED:20240102T140408Z
LAST-MODIFIED:20240306T153910Z
UID:3729-1710324000-1710338400@www.recoup.org
SUMMARY:Members Visit to Greiner Packaging
DESCRIPTION:Looking for an insiders perspective on sustainable plastic packaging manufacturing? Join us for an exclusive member visit at Greiners Northern Ireland facility on the 13th March\, where we will be taking a look at their manufacturing process including Efsa approved Rpet Decontamination & Extrusion.
URL:https://www.recoup.org/event/members-visit-to-greiner-packaging/
LOCATION:Greiner Packaging Northern Ireland\, Killyman Road\,\, Industrial Estate Co. Tyrone\, Northern Ireland\, BT71 6LN\, United Kingdom
ATTACH;FMTTYPE=image/png:https://www.recoup.org/wp-content/uploads/2024/01/Members-Event-Mailchimp.png
END:VEVENT
END:VCALENDAR