

BEGIN:VCALENDAR
VERSION:2.0
PRODID:-//RECOUP - ECPv6.15.16//NONSGML v1.0//EN
CALSCALE:GREGORIAN
METHOD:PUBLISH
X-WR-CALNAME:RECOUP
X-ORIGINAL-URL:https://www.recoup.org
X-WR-CALDESC:Events for RECOUP
REFRESH-INTERVAL;VALUE=DURATION:PT1H
X-Robots-Tag:noindex
X-PUBLISHED-TTL:PT1H
BEGIN:VTIMEZONE
TZID:UTC
BEGIN:STANDARD
TZOFFSETFROM:+0000
TZOFFSETTO:+0000
TZNAME:UTC
DTSTART:20220101T000000
END:STANDARD
END:VTIMEZONE
BEGIN:VTIMEZONE
TZID:UTC
BEGIN:STANDARD
TZOFFSETFROM:+0000
TZOFFSETTO:+0000
TZNAME:UTC
DTSTART:20220101T000000
END:STANDARD
END:VTIMEZONE
BEGIN:VEVENT
DTSTART;TZID=UTC:20231213T100000
DTEND;TZID=UTC:20231213T113000
DTSTAMP:20260422T232312
CREATED:20231116T142505Z
LAST-MODIFIED:20231117T130123Z
UID:3405-1702461600-1702467000@www.recoup.org
SUMMARY:Bring It Back - Making Reusables a Reality
DESCRIPTION:Exploring returnable packaging trials within the Peterborough area\, PECT and RECOUP will be presenting the research & development\, communication methods\, methodology and results of the Bring It Back project.
URL:https://www.recoup.org/event/bring-it-back-making-reusables-a-reality/
LOCATION:Online
END:VEVENT
BEGIN:VEVENT
DTSTART;TZID=UTC:20231206T100000
DTEND;TZID=UTC:20231206T110000
DTSTAMP:20260422T232312
CREATED:20231108T133347Z
LAST-MODIFIED:20231108T133347Z
UID:3252-1701856800-1701860400@www.recoup.org
SUMMARY:RECOUP 2023 UK Household Plastic Packaging Collection Survey
DESCRIPTION:The RECOUP Survey is an annual\, specialist\, research-based report for those working in\, or making decisions about household plastics waste and the recycled plastics value chain. All UK local authorities\, as well as county councils and waste partnerships\, are surveyed in an online questionnaire about many key areas affecting their operations and as such the Survey provides a comprehensive review of the collection of household plastics for recycling in the UK\, and the opportunities and challenges facing local authorities and waste management providers. This webinar launches and outlines the key findings from the new 2023 Survey report.
URL:https://www.recoup.org/event/recoup-2023-uk-household-plastic-packaging-collection-survey/
LOCATION:Online
END:VEVENT
BEGIN:VEVENT
DTSTART;TZID=UTC:20231116T100000
DTEND;TZID=UTC:20231116T140000
DTSTAMP:20260422T232312
CREATED:20231027T085314Z
LAST-MODIFIED:20231027T085335Z
UID:3113-1700128800-1700143200@www.recoup.org
SUMMARY:Members site visit to Sherbourne Recycling
DESCRIPTION:RECOUP are offering members the opportunity to visit Sherbourne Recycling new state of the art materials recycling facility
URL:https://www.recoup.org/event/members-site-visit-to-sherbourne-recycling/
LOCATION:Sherbourne Resource Park\, Sherbourne Resource Park 255 London Road\, Coventry\, CV3 4AR
END:VEVENT
BEGIN:VEVENT
DTSTART;TZID=UTC:20231115T100000
DTEND;TZID=UTC:20231115T113000
DTSTAMP:20260422T232312
CREATED:20230919T100100Z
LAST-MODIFIED:20231004T123614Z
UID:1689-1700042400-1700047800@www.recoup.org
SUMMARY:Communicating Pack Recyclability
DESCRIPTION:RECOUP will be hosting a webinar on Communicating Pack Recyclability.
URL:https://www.recoup.org/event/communicating-pack-recyclability/
LOCATION:Online
END:VEVENT
BEGIN:VEVENT
DTSTART;TZID=UTC:20231108T100000
DTEND;TZID=UTC:20231108T113000
DTSTAMP:20260422T232312
CREATED:20231005T085817Z
LAST-MODIFIED:20231109T112352Z
UID:2856-1699437600-1699443000@www.recoup.org
SUMMARY:Implementing Reuse Systems
DESCRIPTION:RECOUP will be hosting a webinar on Implementing Reuse Systems.
URL:https://www.recoup.org/event/implementing-reuse-systems/
LOCATION:Online
END:VEVENT
BEGIN:VEVENT
DTSTART;TZID=UTC:20231011T140000
DTEND;TZID=UTC:20231011T153000
DTSTAMP:20260422T232312
CREATED:20230919T095449Z
LAST-MODIFIED:20231004T114356Z
UID:1686-1697032800-1697038200@www.recoup.org
SUMMARY:Understanding Recycled Content Verification Systems
DESCRIPTION:RECOUP will be hosting a webinar on Understanding Recycled Content Verification Systems.
URL:https://www.recoup.org/event/understanding-recycled-content-verification-systems/
LOCATION:Online
END:VEVENT
END:VCALENDAR