

BEGIN:VCALENDAR
VERSION:2.0
PRODID:-//RECOUP - ECPv6.15.16//NONSGML v1.0//EN
CALSCALE:GREGORIAN
METHOD:PUBLISH
X-ORIGINAL-URL:https://www.recoup.org
X-WR-CALDESC:Events for RECOUP
REFRESH-INTERVAL;VALUE=DURATION:PT1H
X-Robots-Tag:noindex
X-PUBLISHED-TTL:PT1H
BEGIN:VTIMEZONE
TZID:UTC
BEGIN:STANDARD
TZOFFSETFROM:+0000
TZOFFSETTO:+0000
TZNAME:UTC
DTSTART:20250101T000000
END:STANDARD
END:VTIMEZONE
BEGIN:VTIMEZONE
TZID:Europe/London
BEGIN:DAYLIGHT
TZOFFSETFROM:+0000
TZOFFSETTO:+0100
TZNAME:BST
DTSTART:20250330T010000
END:DAYLIGHT
BEGIN:STANDARD
TZOFFSETFROM:+0100
TZOFFSETTO:+0000
TZNAME:GMT
DTSTART:20251026T010000
END:STANDARD
BEGIN:DAYLIGHT
TZOFFSETFROM:+0000
TZOFFSETTO:+0100
TZNAME:BST
DTSTART:20260329T010000
END:DAYLIGHT
BEGIN:STANDARD
TZOFFSETFROM:+0100
TZOFFSETTO:+0000
TZNAME:GMT
DTSTART:20261025T010000
END:STANDARD
BEGIN:DAYLIGHT
TZOFFSETFROM:+0000
TZOFFSETTO:+0100
TZNAME:BST
DTSTART:20270328T010000
END:DAYLIGHT
BEGIN:STANDARD
TZOFFSETFROM:+0100
TZOFFSETTO:+0000
TZNAME:GMT
DTSTART:20271031T010000
END:STANDARD
END:VTIMEZONE
BEGIN:VEVENT
DTSTART;TZID=UTC:20260930T183000
DTEND;TZID=UTC:20260930T230000
DTSTAMP:20260422T224847
CREATED:20250120T142004Z
LAST-MODIFIED:20260407T141458Z
UID:9609-1790793000-1790809200@www.recoup.org
SUMMARY:RECOUP Awards and Networking Dinner
DESCRIPTION:The RECOUP Awards recognise and celebrate excellence in plastics resource efficiency and recycling and organisations leading a more circular plastics value chain.  Enter the awards for FREE by 26 June 2026 and book your ticket for the dinner by clicking here.
URL:https://www.recoup.org/event/recoup-awards-and-networking-dinner/
LOCATION:Holiday Inn Peterborough – West\, PE3 6SG
ATTACH;FMTTYPE=image/png:https://www.recoup.org/wp-content/uploads/2026/02/Awards-presentation.png
END:VEVENT
BEGIN:VEVENT
DTSTART;TZID=Europe/London:20261001T090000
DTEND;TZID=Europe/London:20261001T160000
DTSTAMP:20260422T224847
CREATED:20260303T122407Z
LAST-MODIFIED:20260324T143429Z
UID:14086-1790845200-1790870400@www.recoup.org
SUMMARY:The RECOUP Plastics Assembly
DESCRIPTION:The RECOUP Plastics Assembly 2026 brings together decision-makers from across the plastics value chain to address the regulatory\, environmental\, and market pressures shaping the future of plastics. \n  \nAGENDA \n  \n9 am Registration & Breakfast \n9:30 am Welcome \n  \n10:15 am Breakout Sessions. Join one of our 3 sessions \nDesigning Plastic Products for a Circular Future \nRecycling Infrastructure for Circular Plastics \nWho Drives Circular Behaviour – Rethinking Responsibility? \n  \n11:15am Break \n11:45 am Breakout Sessions. Join one of our 3 sessions \nThe Future of Materials: Sustainable Plastics\, Plastic Alternatives\, Composites & Beyond \nStopping Plastic Pollution: Tackling Litter\, Leakage & Waste Crime \nThe Policy Landscape \n  \n12:45 pm Lunch \n2:15 pm Afternoon Session \nSolutions for a Circular Economy \n  \n3.45 pm Closing Thoughts \n  \nFor more information please visit The RECOUP Plastics Assembly page \n 
URL:https://www.recoup.org/event/the-recoup-plastics-assembly/
LOCATION:Holiday Inn Peterborough – West\, PE3 6SG
ATTACH;FMTTYPE=image/png:https://www.recoup.org/wp-content/uploads/2026/02/Web-Page-Images-3.png
END:VEVENT
BEGIN:VEVENT
DTSTART;VALUE=DATE:20261110
DTEND;VALUE=DATE:20261112
DTSTAMP:20260422T224847
CREATED:20260217T112739Z
LAST-MODIFIED:20260217T112739Z
UID:14046-1794268800-1794441599@www.recoup.org
SUMMARY:UKPackaging Expo 2026
DESCRIPTION:UKPackaging Expo 2026 is not just another date on the packaging industry calendar. It is a bold reimagining of what a trade event can be\, designed for a sector that is transforming at speed. On 10 and 11 November 2026\, the Exhibition Centre Liverpool will become a platform for new ideas\, new buyers and new opportunities\, all created to challenge the traditional event model. \nWhile many shows repeat the same formula and attract the same visitor base year after year\, UKPackaging Expo is breaking that cycle. This event flips expectations by delivering something fresh\, disruptive and regionally focused\, opening the door to audiences who have long been underserved by southern based exhibitions. \n\n\n\nVisit https://ukpackagingexpo.co.uk to register your interest and for more info. \n 
URL:https://www.recoup.org/event/ukpackaging-expo-2026/
LOCATION:Exhibition Centre Liverpool\, King's Dock\, Port of Liverpool\, Liverpool\, L3 4FP\, United Kingdom
ATTACH;FMTTYPE=image/jpeg:https://www.recoup.org/wp-content/uploads/2026/02/UKPackaging-Expo.jpg
END:VEVENT
END:VCALENDAR