

BEGIN:VCALENDAR
VERSION:2.0
PRODID:-//RECOUP - ECPv6.15.16//NONSGML v1.0//EN
CALSCALE:GREGORIAN
METHOD:PUBLISH
X-WR-CALNAME:RECOUP
X-ORIGINAL-URL:https://www.recoup.org
X-WR-CALDESC:Events for RECOUP
REFRESH-INTERVAL;VALUE=DURATION:PT1H
X-Robots-Tag:noindex
X-PUBLISHED-TTL:PT1H
BEGIN:VTIMEZONE
TZID:Europe/London
BEGIN:DAYLIGHT
TZOFFSETFROM:+0000
TZOFFSETTO:+0100
TZNAME:BST
DTSTART:20250330T010000
END:DAYLIGHT
BEGIN:STANDARD
TZOFFSETFROM:+0100
TZOFFSETTO:+0000
TZNAME:GMT
DTSTART:20251026T010000
END:STANDARD
BEGIN:DAYLIGHT
TZOFFSETFROM:+0000
TZOFFSETTO:+0100
TZNAME:BST
DTSTART:20260329T010000
END:DAYLIGHT
BEGIN:STANDARD
TZOFFSETFROM:+0100
TZOFFSETTO:+0000
TZNAME:GMT
DTSTART:20261025T010000
END:STANDARD
BEGIN:DAYLIGHT
TZOFFSETFROM:+0000
TZOFFSETTO:+0100
TZNAME:BST
DTSTART:20270328T010000
END:DAYLIGHT
BEGIN:STANDARD
TZOFFSETFROM:+0100
TZOFFSETTO:+0000
TZNAME:GMT
DTSTART:20271031T010000
END:STANDARD
END:VTIMEZONE
BEGIN:VEVENT
DTSTART;TZID=Europe/London:20260714T080000
DTEND;TZID=Europe/London:20260714T170000
DTSTAMP:20260423T003037
CREATED:20260317T114757Z
LAST-MODIFIED:20260317T115331Z
UID:14492-1784016000-1784048400@www.recoup.org
SUMMARY:Sustainability & Impact Summit 2026
DESCRIPTION:Packaging News launches Sustainability & Impact Summit and Awards \nThe packaging industry is entering a new phase of transformation. Expectations around sustainability are rising\, regulation is tightening and businesses are under growing pressure to demonstrate real progress. In response to this shift\, Packaging News has launched the Sustainability & Impact Summit and Awards\, a refreshed and expanded evolution of the long-standing Environmental Packaging Summit and Awards. \nTaking place on Tuesday 14 July 2026 at the Kia Oval in London\, the one-day conference and awards ceremony will bring together leaders from across the packaging and waste value chain to explore the practical realities of sustainable packaging. \nThe Sustainability & Impact platform reflects a broad change in the industry itself. The conversation around packaging sustainability has matured\, moving beyond environmental ambition toward measurable outcomes\, commercial viability and system-wide change. \n  \nA platform built for real industry progress \nFor many years the Environmental Packaging Summit and Awards provided a respected forum for discussing sustainability challenges and recognising best practice. The new Sustainability & Impact Summit and Awards builds on this strong foundation while expanding its focus to better reflect the complexities facing the industry today. \nWhile the core principles remain unchanged\, including rigorous benchmarking\, independent expert judging and practical industry insight\, the scope of the programme has broadened significantly. \nThe new platform now explores key themes shaping the future of packaging\, including circular economy solutions\, carbon reduction strategies\, regulatory reform\, innovation in materials and design\, and the real-world implementation of sustainable packaging systems. \nTogether\, the Summit and Awards create a joined-up platform where the industry can share knowledge\, recognise leadership and tackle the challenges that are reshaping packaging today. \n  \nGuided by leading voices across the packaging value chain \nA key part of the programme’s development is the involvement of a dedicated Advisory Board\, bringing together senior leaders from across the packaging supply chain. \nTheir role is to provide strategic input into the content of the Summit and ensure that discussions reflect the most pressing challenges and opportunities facing the industry. \nThe Advisory Board currently includes: \n\nJude Allan (OPRL)\nMargaret Bates (former head of the UK pEPR Scheme administrator)\nMartin Kersh (Packaging Federation)\nGillian Garside-Wight (Aura)\nRoger Wright (Biffa)\nAdam Read (SUEZ)\n\nTheir combined expertise ensures the programme remains grounded in real industry experience\, helping to guide conversations that drive meaningful progress across the packaging sector. \n  \nRecognising leadership and innovation \nAlongside the conference\, the Sustainability & Impact Awards will celebrate the organisations and individuals delivering tangible progress across the packaging landscape. \nFrom breakthrough materials and circular packaging systems to innovative business models and collaborative initiatives\, the awards recognise the work that is turning sustainability ambition into measurable impact. \nThe awards programme continues to maintain the credibility the industry expects\, with independent judging and a robust benchmarking process that highlights genuine leadership and innovation. \n  \nA clearer\, future-focused direction \nAccording to Simone Broadhurst\, event director and publisher of Packaging News\, the new format reflects the growing complexity of the sustainability conversation. \n“Together\, the Summit and Awards provide a joined-up platform to recognise leadership\, share best practice and help businesses navigate tightening regulation\, rising costs and increasing scrutiny\,” she said. \n“The Sustainability & Impact Summit and Awards continue to offer the same credibility and rigour the industry trusts\, delivered through a clearer\, more future-focused lens.” \n  \nJoin the conversation \nThe Sustainability & Impact Summit and Awards will bring together brands\, retailers\, packaging manufacturers\, recyclers\, policymakers and sustainability leaders for a day of discussion\, collaboration and recognition. \nIf you are ready to be part of the conversation shaping the future of packaging\, now is the time to get involved! \nFind out more about the Awards and secure your place at one of the industry’s most important sustainability event of the year. \nVisit their website here: https://q.me-qr.com/oomxac6i \nRegister your interest to stay in the loop of updates of the event here: https://sustainability.packagingnews.co.uk/sustainabilityandimpact2026/en/page/register-your-interest-for-2026
URL:https://www.recoup.org/event/sustainability-impact-summit-2026/
LOCATION:Kia Oval Cricket Ground\, London\, Kennington Oval\, London\, SE11 5SS\, United Kingdom
ATTACH;FMTTYPE=image/jpeg:https://www.recoup.org/wp-content/uploads/2026/03/3cf91709-node_SICA2026_Mobile_website_header_1080x1080px_Large.jpg
END:VEVENT
END:VCALENDAR