

BEGIN:VCALENDAR
VERSION:2.0
PRODID:-//RECOUP - ECPv6.15.16//NONSGML v1.0//EN
CALSCALE:GREGORIAN
METHOD:PUBLISH
X-WR-CALNAME:RECOUP
X-ORIGINAL-URL:https://www.recoup.org
X-WR-CALDESC:Events for RECOUP
REFRESH-INTERVAL;VALUE=DURATION:PT1H
X-Robots-Tag:noindex
X-PUBLISHED-TTL:PT1H
BEGIN:VTIMEZONE
TZID:Europe/London
BEGIN:DAYLIGHT
TZOFFSETFROM:+0000
TZOFFSETTO:+0100
TZNAME:BST
DTSTART:20250330T010000
END:DAYLIGHT
BEGIN:STANDARD
TZOFFSETFROM:+0100
TZOFFSETTO:+0000
TZNAME:GMT
DTSTART:20251026T010000
END:STANDARD
BEGIN:DAYLIGHT
TZOFFSETFROM:+0000
TZOFFSETTO:+0100
TZNAME:BST
DTSTART:20260329T010000
END:DAYLIGHT
BEGIN:STANDARD
TZOFFSETFROM:+0100
TZOFFSETTO:+0000
TZNAME:GMT
DTSTART:20261025T010000
END:STANDARD
BEGIN:DAYLIGHT
TZOFFSETFROM:+0000
TZOFFSETTO:+0100
TZNAME:BST
DTSTART:20270328T010000
END:DAYLIGHT
BEGIN:STANDARD
TZOFFSETFROM:+0100
TZOFFSETTO:+0000
TZNAME:GMT
DTSTART:20271031T010000
END:STANDARD
END:VTIMEZONE
BEGIN:VEVENT
DTSTART;TZID=Europe/London:20260709T080000
DTEND;TZID=Europe/London:20260709T170000
DTSTAMP:20260423T003036
CREATED:20260407T133203Z
LAST-MODIFIED:20260407T133203Z
UID:14660-1783584000-1783616400@www.recoup.org
SUMMARY:PRAS
DESCRIPTION:PRAS is a one-day event designed to connect academics\, students\, industry professionals and sustainability experts through high quality research\, practical insights and meaningful discussion. The event showcases work that supports better design\, use\, reuse and recovery of plastics. With multiple conference sessions\, high calibre \nspeakers and a focused exhibitor area\, PRAS offers a clear space to explore new developments\, build connections and discover solutions that support better outcomes for plastics and the environment. \n  \nFind out more
URL:https://www.recoup.org/event/pras/
LOCATION:University of Sheffield\, The Wave\, 2 Whitham Rd\, Sheffield\, S10 2AH
ATTACH;FMTTYPE=image/webp:https://www.recoup.org/wp-content/uploads/2026/04/PRAS-01.webp
END:VEVENT
END:VCALENDAR