

BEGIN:VCALENDAR
VERSION:2.0
PRODID:-//RECOUP - ECPv6.15.16//NONSGML v1.0//EN
CALSCALE:GREGORIAN
METHOD:PUBLISH
X-WR-CALNAME:RECOUP
X-ORIGINAL-URL:https://www.recoup.org
X-WR-CALDESC:Events for RECOUP
REFRESH-INTERVAL;VALUE=DURATION:PT1H
X-Robots-Tag:noindex
X-PUBLISHED-TTL:PT1H
BEGIN:VTIMEZONE
TZID:Europe/London
BEGIN:DAYLIGHT
TZOFFSETFROM:+0000
TZOFFSETTO:+0100
TZNAME:BST
DTSTART:20250330T010000
END:DAYLIGHT
BEGIN:STANDARD
TZOFFSETFROM:+0100
TZOFFSETTO:+0000
TZNAME:GMT
DTSTART:20251026T010000
END:STANDARD
BEGIN:DAYLIGHT
TZOFFSETFROM:+0000
TZOFFSETTO:+0100
TZNAME:BST
DTSTART:20260329T010000
END:DAYLIGHT
BEGIN:STANDARD
TZOFFSETFROM:+0100
TZOFFSETTO:+0000
TZNAME:GMT
DTSTART:20261025T010000
END:STANDARD
BEGIN:DAYLIGHT
TZOFFSETFROM:+0000
TZOFFSETTO:+0100
TZNAME:BST
DTSTART:20270328T010000
END:DAYLIGHT
BEGIN:STANDARD
TZOFFSETFROM:+0100
TZOFFSETTO:+0000
TZNAME:GMT
DTSTART:20271031T010000
END:STANDARD
END:VTIMEZONE
BEGIN:VEVENT
DTSTART;TZID=Europe/London:20260422T120000
DTEND;TZID=Europe/London:20260422T123000
DTSTAMP:20260422T014157
CREATED:20260318T145626Z
LAST-MODIFIED:20260318T145626Z
UID:14517-1776859200-1776861000@www.recoup.org
SUMMARY:Future of reuse: lunchtime webinar
DESCRIPTION:Join us for an engaging lunchtime session where we bring together the UK’s pioneers in reusable packaging to explore what reuse systems could look like over the next 10–20 years. We’ll dive into what it takes to make reuse work in the real world today while also giving ourselves space to imagine the ambitious\, circular future we’re all working toward. \nExpect a mix of informed discussion\, practical insight\, and relaxed conversation as we consider how reuse can scale\, what needs to change to support that shift\, and how each of us contributes to shaping the Reuse Future. \n  \nSpeakers:   \nIrina Ankudinova\, Sustainability & Circularity Manager\, RECOUP \nDan Dicker\, CEO and Founder\, Circular and Co  \nJo Liang\, CEO and Co-founder\, CauliBox  \nLynn Johnson\, Managing Director\, FSG Returnables  
URL:https://www.recoup.org/event/future-of-reuse-lunchtime-webinar/
LOCATION:Online
ATTACH;FMTTYPE=image/png:https://www.recoup.org/wp-content/uploads/2026/03/Future-of-reuse-webinar-1.png
END:VEVENT
END:VCALENDAR