

BEGIN:VCALENDAR
VERSION:2.0
PRODID:-//RECOUP - ECPv6.15.16//NONSGML v1.0//EN
CALSCALE:GREGORIAN
METHOD:PUBLISH
X-ORIGINAL-URL:https://www.recoup.org
X-WR-CALDESC:Events for RECOUP
REFRESH-INTERVAL;VALUE=DURATION:PT1H
X-Robots-Tag:noindex
X-PUBLISHED-TTL:PT1H
BEGIN:VTIMEZONE
TZID:UTC
BEGIN:STANDARD
TZOFFSETFROM:+0000
TZOFFSETTO:+0000
TZNAME:UTC
DTSTART:20240101T000000
END:STANDARD
END:VTIMEZONE
BEGIN:VEVENT
DTSTART;TZID=UTC:20250514T100000
DTEND;TZID=UTC:20250514T143000
DTSTAMP:20260421T221201
CREATED:20250219T095817Z
LAST-MODIFIED:20250219T095826Z
UID:10047-1747216800-1747233000@www.recoup.org
SUMMARY:RECOUP Members site visit to Berry Circular Polymers Leamington Spa site
DESCRIPTION:Berry Circular Polymers proudly invites RECOUP members to visit a leading recycling site based in Leamington Spa\, UK. The site uses proprietary CleanStream® technology\, one of the first closed-loop systems to mechanically process domestically recovered household waste polypropylene (PP) back into packaging for contact sensitive applications
URL:https://www.recoup.org/event/recoup-members-site-visit-to-berry-circular-polymers-leamington-spa-site-2/
ATTACH;FMTTYPE=image/png:https://www.recoup.org/wp-content/uploads/2025/02/Members-Event-Mailchimp-5.png
END:VEVENT
END:VCALENDAR