

BEGIN:VCALENDAR
VERSION:2.0
PRODID:-//RECOUP - ECPv6.15.16//NONSGML v1.0//EN
CALSCALE:GREGORIAN
METHOD:PUBLISH
X-ORIGINAL-URL:https://www.recoup.org
X-WR-CALDESC:Events for RECOUP
REFRESH-INTERVAL;VALUE=DURATION:PT1H
X-Robots-Tag:noindex
X-PUBLISHED-TTL:PT1H
BEGIN:VTIMEZONE
TZID:UTC
BEGIN:STANDARD
TZOFFSETFROM:+0000
TZOFFSETTO:+0000
TZNAME:UTC
DTSTART:20230101T000000
END:STANDARD
END:VTIMEZONE
BEGIN:VEVENT
DTSTART;TZID=UTC:20240725T100000
DTEND;TZID=UTC:20240725T113000
DTSTAMP:20260423T193258
CREATED:20240624T140637Z
LAST-MODIFIED:20240624T142432Z
UID:6022-1721901600-1721907000@www.recoup.org
SUMMARY:Addressing the needs and challenges for reusable packaging systems through digitalisation: Learnings from project TRACE
DESCRIPTION:Hear from Pragmatic\, University of Sheffield\, AMRC and RECOUP as we share learnings from the Innovate UK Smart Sustainable Plastic Packaging Challenge funded project TRACE (Technology-enabled Reusable Assets for a Circular Economy). \nThe project has been wide-reaching\, considering packaging design; consumer perception and barriers to entry; system digitisation and modelling; and sorting and segregation.
URL:https://www.recoup.org/event/addressing-the-needs-and-challenges-for-reusable-packaging-systems-through-digitalisation-learnings-from-project-trace/
LOCATION:Online
ATTACH;FMTTYPE=image/png:https://www.recoup.org/wp-content/uploads/2024/06/Learnings-from-project-TRACE-Webinar-2.png
END:VEVENT
END:VCALENDAR