

BEGIN:VCALENDAR
VERSION:2.0
PRODID:-//RECOUP - ECPv6.15.16//NONSGML v1.0//EN
CALSCALE:GREGORIAN
METHOD:PUBLISH
X-ORIGINAL-URL:https://www.recoup.org
X-WR-CALDESC:Events for RECOUP
REFRESH-INTERVAL;VALUE=DURATION:PT1H
X-Robots-Tag:noindex
X-PUBLISHED-TTL:PT1H
BEGIN:VTIMEZONE
TZID:UTC
BEGIN:STANDARD
TZOFFSETFROM:+0000
TZOFFSETTO:+0000
TZNAME:UTC
DTSTART:20230101T000000
END:STANDARD
END:VTIMEZONE
BEGIN:VEVENT
DTSTART;VALUE=DATE:20240514
DTEND;VALUE=DATE:20240516
DTSTAMP:20260423T230822
CREATED:20240318T113934Z
LAST-MODIFIED:20240424T122730Z
UID:4589-1715644800-1715817599@www.recoup.org
SUMMARY:Rethinking Materials Innovation and Investment Summit
DESCRIPTION:We are proud partners of Rethinking Materials\, taking place in London on May 14-15. Head to their website to find out more: https://bit.ly/4cj4MSL \nThe programme is now live\, with material innovation leaders from Unilever\, Ganni\, Dow\, H&M\, BMW\, and Deliveroo joining the speaker faculty as well as RECOUPs Head of Policy & Infrastructure\, Steve Morgan – https://rethinkingmaterials.com/speakers/ \n  \nThis international event provides a platform to connect leaders who are developing and scaling sustainable alternative materials and circular solutions for consumer goods. \nFocusing on upstream innovation (design\, new materials\, and regulation) the summit sets out to connect technology pioneers with investors and corporate partners to scale innovation in new materials for consumer goods – including packaging\, textiles\, durable goods\, and personal hygiene products. \nProviding two days of debate and targeted networking with global consumer brands\, producers\, converters\, policymakers\, early-stage innovators\, and investors – the 2024 agenda offers a unique opportunity to learn from adjacent sectors and gain insights into innovative applications of new materials and technologies that can future-proof your business and achieve more sustainable supply chains. \n  \nKey Themes for 2024: \n\nSustainability Pathways: Corporate transitioning to net zero and sustainable supply chains\nThe Funding Gap: Adapting investment models for next-gen materials and infrastructure\nSustainable Feedstocks: Capitalising on cross sector collaboration and waste stream valorisation\nAI-Driven Solutions: Using AI as a tool to accelerate the transition to a circular economy\nRegulatory Landscape: Navigating fast-changing legislation at a local and global level\nTraceability & Transparency: Knowing the journey and lifecycle of your material output\nRegenerative & Novel Materials: Innovations in natural fibres\, textiles and polymers\nEnhanced Performance: Developments in material properties\, durability\, and functionality\nAchieving Recyclability: Advances in technology for disassembly and true circularity\nDesigning Out Waste: End-to-end product innovation and extended producer responsibility\nThe Future is Paper: Enhancing performance with functional and barrier coatings\nInvestment Trends: Identifying high-growth solutions and navigating hype cycles
URL:https://www.recoup.org/event/rethinking-materials-innovation-and-investment-summit/
LOCATION:Hilton London Bankside\, 2-8 Great Suffolk Street\, London\, SE1 0UG\, United Kingdom
ATTACH;FMTTYPE=image/png:https://www.recoup.org/wp-content/uploads/2024/03/Members-Event-Mailchimp-11.png
END:VEVENT
END:VCALENDAR